BEGIN:VCALENDAR
VERSION:2.0
PRODID:-//Focus - ECPv6.15.20//NONSGML v1.0//EN
CALSCALE:GREGORIAN
METHOD:PUBLISH
X-WR-CALNAME:Focus
X-ORIGINAL-URL:https://focusphotographers.org
X-WR-CALDESC:Events for Focus
REFRESH-INTERVAL;VALUE=DURATION:PT1H
X-Robots-Tag:noindex
X-PUBLISHED-TTL:PT1H
BEGIN:VTIMEZONE
TZID:Australia/Sydney
BEGIN:STANDARD
TZOFFSETFROM:+1100
TZOFFSETTO:+1000
TZNAME:AEST
DTSTART:20250405T160000
END:STANDARD
BEGIN:DAYLIGHT
TZOFFSETFROM:+1000
TZOFFSETTO:+1100
TZNAME:AEDT
DTSTART:20251004T160000
END:DAYLIGHT
BEGIN:STANDARD
TZOFFSETFROM:+1100
TZOFFSETTO:+1000
TZNAME:AEST
DTSTART:20260404T160000
END:STANDARD
BEGIN:DAYLIGHT
TZOFFSETFROM:+1000
TZOFFSETTO:+1100
TZNAME:AEDT
DTSTART:20261003T160000
END:DAYLIGHT
BEGIN:STANDARD
TZOFFSETFROM:+1100
TZOFFSETTO:+1000
TZNAME:AEST
DTSTART:20270403T160000
END:STANDARD
BEGIN:DAYLIGHT
TZOFFSETFROM:+1000
TZOFFSETTO:+1100
TZNAME:AEDT
DTSTART:20271002T160000
END:DAYLIGHT
END:VTIMEZONE
BEGIN:VEVENT
DTSTART;TZID=Australia/Sydney:20260425T054500
DTEND;TZID=Australia/Sydney:20260425T063000
DTSTAMP:20260425T085357
CREATED:20260421T041305Z
LAST-MODIFIED:20260421T041305Z
UID:25188-1777095900-1777098600@focusphotographers.org
SUMMARY:Sydney North Shoot - Saturday 25th April at Narrabeen Pool with Mark Godfrey
DESCRIPTION:Location Information\nLocation features: Ocean Pool\, rock shelf\, beach \nHazards/Dangers: Around the pool can be slippery. Rock shelf has some crevices and holes. \nFitness requirements? 3-4 min flat walk to the pool from the carpark \nAdditional safety equipment required: Headlamp or torch\, rock boots/ shoes if going onto the rock shelf \n*Once you add your name to attend the shoot\, please click on the link to Subscribe\, this will enable you to be notified automatically of any changes to the shoot ** \nSafety\nBy adding your name below to attend this Focus shoot you are agreeing to abide by the SAFETY POLICY FOR FOCUS SEASCAPE AND LANDSCAPE available on the Focus website http://focusphotographers.org/focus-safety-policy/\nThis Safety Policy is designed to promote the safety of all members of the Focus Seascape and Landscape Photography Inc Group (Focus) and outlines the responsibilities of members and event leaders.\nFocus Photographers as a group advocates and promotes safe shooting practices. Please consider your personal safety and the safety of the group during your time spent on any Focus group outing.\nBy placing your name below you are stating that you have read and understood the Focus Safety Policy Document. \nConditions\nFirst light: 5:58 am \nSunrise: 6:23 am \nTide @ Sunrise : 1.1 m \nHigh tide : 2:53 am 1.69 m \nLow tide : 9:51 am 0.53 m \nSwell : 7:00 am 1.1 m – slight @ 9 sec \nMeeting Place & Time\nMeeting place: Narrabeen Lakes Entrance Carpark. Carpark entrance is opposite the Caravan Park on Narrabeen Park Parade. \nMeeting time: 5:45 am \nMeeting place – google map link: https://maps.app.goo.gl/u1jmXzNDd277DTto8 \nBreakfast\nBreakfast location: Four Knots Cafe\, North Narrabeen Surf Life Saving Club\, 2 Malcolm St\, Narrabeen \nBreakfast – google map link: https://maps.app.goo.gl/meJj1gAEX83p9SuKA \nLinks to Location Images\n \n \n \nShare this:
URL:https://focusphotographers.org/event/sydney-north-shoot-saturday-25th-april-at-narrabeen-pool-with-mark-godfrey/
LOCATION:Narrabeen Pool\, Carpark cnr Ocean Rd and Narrabeen Park Pde\, Narrabeen\, Australia
CATEGORIES:Photo Shoots
ORGANIZER;CN="Mark Godfrey":MAILTO:mark.godfrey@bigpond.com
END:VEVENT
END:VCALENDAR